BEGIN:VCALENDAR
VERSION:2.0
PRODID:-//jEvents 2.0 for Joomla//EN
CALSCALE:GREGORIAN
METHOD:PUBLISH
BEGIN:VEVENT
UID:162c582b48149aa79fb6bacaf2c8bb5b
CATEGORIES:Abt. Stadt
CREATED:20240108T132612
SUMMARY:Übung
DESCRIPTION:
DTSTAMP:20260421T110422
DTSTART:20241023T170000
SEQUENCE:0
TRANSP:OPAQUE
END:VEVENT
END:VCALENDAR