BEGIN:VCALENDAR
VERSION:2.0
PRODID:-//jEvents 2.0 for Joomla//EN
CALSCALE:GREGORIAN
METHOD:PUBLISH
BEGIN:VEVENT
UID:2efe6bd92bc7924d8219da7c375bf729
CATEGORIES:JF Kandern
CREATED:20240202T113937
SUMMARY:Übung Gruppe 2
DESCRIPTION:
DTSTAMP:20260421T093934
DTSTART:20241104T173000
SEQUENCE:0
TRANSP:OPAQUE
END:VEVENT
END:VCALENDAR