BEGIN:VCALENDAR
VERSION:2.0
PRODID:-//jEvents 2.0 for Joomla//EN
CALSCALE:GREGORIAN
METHOD:PUBLISH
BEGIN:VEVENT
UID:813d5754d7834a11fb31f11152b4a5f0
CATEGORIES:JF Kandern
CREATED:20240202T113913
SUMMARY:Übung Gruppe 1
DESCRIPTION:
DTSTAMP:20260423T081411
DTSTART:20241021T163000
SEQUENCE:0
TRANSP:OPAQUE
END:VEVENT
END:VCALENDAR