BEGIN:VCALENDAR
VERSION:2.0
PRODID:-//jEvents 2.0 for Joomla//EN
CALSCALE:GREGORIAN
METHOD:PUBLISH
BEGIN:VEVENT
UID:531c17b1d8ca9d803e73467d16618143
CATEGORIES:JF Kandern
CREATED:20240202T113854
SUMMARY:Übung Gruppe 2
DESCRIPTION:
DTSTAMP:20260423T093426
DTSTART:20241014T163000
SEQUENCE:0
TRANSP:OPAQUE
END:VEVENT
END:VCALENDAR