BEGIN:VCALENDAR
VERSION:2.0
PRODID:-//jEvents 2.0 for Joomla//EN
CALSCALE:GREGORIAN
METHOD:PUBLISH
BEGIN:VEVENT
UID:564b8fc039da6ed9de1fa99d3009646a
CATEGORIES:JF Kandern
CREATED:20240202T113712
SUMMARY:Übung Gruppe 1+2
DESCRIPTION:
DTSTAMP:20260421T140031
DTSTART:20240916T163000
SEQUENCE:0
TRANSP:OPAQUE
END:VEVENT
END:VCALENDAR