BEGIN:VCALENDAR
VERSION:2.0
PRODID:-//jEvents 2.0 for Joomla//EN
CALSCALE:GREGORIAN
METHOD:PUBLISH
BEGIN:VEVENT
UID:775097293909fb44d6d555e4c75b55cd
CATEGORIES:JF Kandern
CREATED:20240202T113627
SUMMARY:Kreiszeltlager
DESCRIPTION:
DTSTAMP:20260421T171118
DTSTART;VALUE=DATE:20240724
DTEND;VALUE=DATE:20240729
SEQUENCE:0
TRANSP:OPAQUE
END:VEVENT
END:VCALENDAR