BEGIN:VCALENDAR
VERSION:2.0
PRODID:-//jEvents 2.0 for Joomla//EN
CALSCALE:GREGORIAN
METHOD:PUBLISH
BEGIN:VEVENT
UID:c4e5680dc4c9895a68c64222dec58558
CATEGORIES:JF Kandern
CREATED:20240202T113446
SUMMARY:Übung Gruppe 1
DESCRIPTION:
DTSTAMP:20260421T100007
DTSTART:20240701T163000
SEQUENCE:0
TRANSP:OPAQUE
END:VEVENT
END:VCALENDAR