BEGIN:VCALENDAR
VERSION:2.0
PRODID:-//jEvents 2.0 for Joomla//EN
CALSCALE:GREGORIAN
METHOD:PUBLISH
BEGIN:VEVENT
UID:3b069983ffaf5cb9a6bfe5262ba0f80d
CATEGORIES:JF Kandern
CREATED:20240202T113327
SUMMARY:Übung Gruppe 1
DESCRIPTION:
DTSTAMP:20260421T112430
DTSTART:20240603T163000
SEQUENCE:0
TRANSP:OPAQUE
END:VEVENT
END:VCALENDAR