BEGIN:VCALENDAR
VERSION:2.0
PRODID:-//jEvents 2.0 for Joomla//EN
CALSCALE:GREGORIAN
METHOD:PUBLISH
BEGIN:VEVENT
UID:e0b98547577f5ce6e19b0a61fb823dc1
CATEGORIES:JF Kandern
CREATED:20240202T113251
SUMMARY:Übung Gruppe 2
DESCRIPTION:
DTSTAMP:20260421T123446
DTSTART:20240513T163000
SEQUENCE:0
TRANSP:OPAQUE
END:VEVENT
END:VCALENDAR