BEGIN:VCALENDAR
VERSION:2.0
PRODID:-//jEvents 2.0 for Joomla//EN
CALSCALE:GREGORIAN
METHOD:PUBLISH
BEGIN:VEVENT
UID:aaf49d04d48b7a2a4066ae2f7904618e
CATEGORIES:JF Kandern
CREATED:20240202T112927
SUMMARY:Übung Gruppe 2
DESCRIPTION:
DTSTAMP:20260423T093423
DTSTART:20240429T163000
SEQUENCE:0
TRANSP:OPAQUE
END:VEVENT
END:VCALENDAR