BEGIN:VCALENDAR
VERSION:2.0
PRODID:-//jEvents 2.0 for Joomla//EN
CALSCALE:GREGORIAN
METHOD:PUBLISH
BEGIN:VEVENT
UID:7c2518215f9a2bff298ea5e2dc2f5d8e
CATEGORIES:JF Kandern
CREATED:20240202T112617
SUMMARY:Übung Gruppe 2
DESCRIPTION:
DTSTAMP:20260419T164110
DTSTART:20240318T173000
SEQUENCE:0
TRANSP:OPAQUE
END:VEVENT
END:VCALENDAR