BEGIN:VCALENDAR
VERSION:2.0
PRODID:-//jEvents 2.0 for Joomla//EN
CALSCALE:GREGORIAN
METHOD:PUBLISH
BEGIN:VEVENT
UID:6e4e78f2eb925817d1bed1c6428962ec
CATEGORIES:JF Kandern
CREATED:20240202T112556
SUMMARY:Übung Gruppe 1
DESCRIPTION:
DTSTAMP:20260421T125253
DTSTART:20240311T173000
SEQUENCE:0
TRANSP:OPAQUE
END:VEVENT
END:VCALENDAR