BEGIN:VCALENDAR
VERSION:2.0
PRODID:-//jEvents 2.0 for Joomla//EN
CALSCALE:GREGORIAN
METHOD:PUBLISH
BEGIN:VEVENT
UID:35386dfddd5e507931ea44494a7a2638
CATEGORIES:JF Kandern
CREATED:20240202T112536
SUMMARY:Übung Gruppe 2
DESCRIPTION:
DTSTAMP:20260421T125131
DTSTART:20240304T173000
SEQUENCE:0
TRANSP:OPAQUE
END:VEVENT
END:VCALENDAR