BEGIN:VCALENDAR
VERSION:2.0
PRODID:-//jEvents 2.0 for Joomla//EN
CALSCALE:GREGORIAN
METHOD:PUBLISH
BEGIN:VEVENT
UID:bb1b97134be06e64fb266a107b075799
CATEGORIES:Abt. Holzen
CREATED:20240202T111425
SUMMARY:Übung Gruppe 2
DESCRIPTION:
DTSTAMP:20260423T113709
DTSTART;VALUE=DATE:20241107
DTEND;VALUE=DATE:20241108
SEQUENCE:0
TRANSP:OPAQUE
END:VEVENT
END:VCALENDAR