BEGIN:VCALENDAR
VERSION:2.0
PRODID:-//jEvents 2.0 for Joomla//EN
CALSCALE:GREGORIAN
METHOD:PUBLISH
BEGIN:VEVENT
UID:3226874346474e15eae6a5c3d778fe6b
CATEGORIES:Abt. Holzen
CREATED:20240202T111410
SUMMARY:Übung Gruppe 1
DESCRIPTION:
DTSTAMP:20260421T130739
DTSTART;VALUE=DATE:20241024
DTEND;VALUE=DATE:20241025
SEQUENCE:0
TRANSP:OPAQUE
END:VEVENT
END:VCALENDAR