BEGIN:VCALENDAR
VERSION:2.0
PRODID:-//jEvents 2.0 for Joomla//EN
CALSCALE:GREGORIAN
METHOD:PUBLISH
BEGIN:VEVENT
UID:36127bb875b1ea7a4c03e24534a8aa98
CATEGORIES:Abt. Holzen
CREATED:20240202T111354
SUMMARY:Übung Gruppe 1+2
DESCRIPTION:
DTSTAMP:20260423T125729
DTSTART;VALUE=DATE:20241010
DTEND;VALUE=DATE:20241011
SEQUENCE:0
TRANSP:OPAQUE
END:VEVENT
END:VCALENDAR