BEGIN:VCALENDAR
VERSION:2.0
PRODID:-//jEvents 2.0 for Joomla//EN
CALSCALE:GREGORIAN
METHOD:PUBLISH
BEGIN:VEVENT
UID:0341b810bf766ed55f1b1ae3fe2700ef
CATEGORIES:Abt. Holzen
CREATED:20240202T111235
SUMMARY:Frühstück
DESCRIPTION:
DTSTAMP:20260421T172013
DTSTART;VALUE=DATE:20240922
DTEND;VALUE=DATE:20240923
SEQUENCE:0
TRANSP:OPAQUE
END:VEVENT
END:VCALENDAR