BEGIN:VCALENDAR
VERSION:2.0
PRODID:-//jEvents 2.0 for Joomla//EN
CALSCALE:GREGORIAN
METHOD:PUBLISH
BEGIN:VEVENT
UID:9e5f4eb2373dab57ef121bfe32217367
CATEGORIES:Abt. Holzen
CREATED:20240202T111217
SUMMARY:Übung Maschinisten
DESCRIPTION:
DTSTAMP:20260421T160911
DTSTART;VALUE=DATE:20240920
DTEND;VALUE=DATE:20240921
SEQUENCE:0
TRANSP:OPAQUE
END:VEVENT
END:VCALENDAR