BEGIN:VCALENDAR
VERSION:2.0
PRODID:-//jEvents 2.0 for Joomla//EN
CALSCALE:GREGORIAN
METHOD:PUBLISH
BEGIN:VEVENT
UID:a96265f400e138310be88c293d14ba22
CATEGORIES:Abt. Holzen
CREATED:20240202T111142
SUMMARY:Übung Gruppe 1+2
DESCRIPTION:
DTSTAMP:20260423T113451
DTSTART;VALUE=DATE:20240829
DTEND;VALUE=DATE:20240830
SEQUENCE:0
TRANSP:OPAQUE
END:VEVENT
END:VCALENDAR