BEGIN:VCALENDAR
VERSION:2.0
PRODID:-//jEvents 2.0 for Joomla//EN
CALSCALE:GREGORIAN
METHOD:PUBLISH
BEGIN:VEVENT
UID:053a36ff6ed665145aa7ad6d20745249
CATEGORIES:Abt. Holzen
CREATED:20240202T111047
SUMMARY:Übung Gruppe 1+2
DESCRIPTION:
DTSTAMP:20260421T160229
DTSTART;VALUE=DATE:20240718
DTEND;VALUE=DATE:20240719
SEQUENCE:0
TRANSP:OPAQUE
END:VEVENT
END:VCALENDAR