BEGIN:VCALENDAR
VERSION:2.0
PRODID:-//jEvents 2.0 for Joomla//EN
CALSCALE:GREGORIAN
METHOD:PUBLISH
BEGIN:VEVENT
UID:3c3ab766ca7f20380099e48ed0fa93e9
CATEGORIES:Abt. Holzen
CREATED:20240202T110941
SUMMARY:Übung Gruppe 2
DESCRIPTION:
DTSTAMP:20260421T120037
DTSTART;VALUE=DATE:20240523
DTEND;VALUE=DATE:20240524
SEQUENCE:0
TRANSP:OPAQUE
END:VEVENT
END:VCALENDAR