BEGIN:VCALENDAR
VERSION:2.0
PRODID:-//jEvents 2.0 for Joomla//EN
CALSCALE:GREGORIAN
METHOD:PUBLISH
BEGIN:VEVENT
UID:f985bd6c3056fe1570ec386d144442e9
CATEGORIES:Abt. Holzen
CREATED:20240202T110742
SUMMARY:Übung Gruppe 2
DESCRIPTION:
DTSTAMP:20260422T164339
DTSTART;VALUE=DATE:20240328
DTEND;VALUE=DATE:20240329
SEQUENCE:0
TRANSP:OPAQUE
END:VEVENT
END:VCALENDAR