BEGIN:VCALENDAR
VERSION:2.0
PRODID:-//jEvents 2.0 for Joomla//EN
CALSCALE:GREGORIAN
METHOD:PUBLISH
BEGIN:VEVENT
UID:ad03cd6b126703323f70d1cab7a16915
CATEGORIES:Abt. Holzen
CREATED:20240202T110728
SUMMARY:Übung Gruppe 1
DESCRIPTION:
DTSTAMP:20260419T183839
DTSTART;VALUE=DATE:20240314
DTEND;VALUE=DATE:20240315
SEQUENCE:0
TRANSP:OPAQUE
END:VEVENT
END:VCALENDAR