BEGIN:VCALENDAR
VERSION:2.0
PRODID:-//jEvents 2.0 for Joomla//EN
CALSCALE:GREGORIAN
METHOD:PUBLISH
BEGIN:VEVENT
UID:26350df8a2f0fcad960eeb7e485efe67
CATEGORIES:Abt. Holzen
CREATED:20240202T110712
SUMMARY:Schrottsammlung
DESCRIPTION:
DTSTAMP:20260422T164334
DTSTART;VALUE=DATE:20240302
DTEND;VALUE=DATE:20240303
SEQUENCE:0
TRANSP:OPAQUE
END:VEVENT
END:VCALENDAR