BEGIN:VCALENDAR
VERSION:2.0
PRODID:-//jEvents 2.0 for Joomla//EN
CALSCALE:GREGORIAN
METHOD:PUBLISH
BEGIN:VEVENT
UID:e26acefaa7f7f35e12f7b4aced0b9995
CATEGORIES:Abt. Holzen
CREATED:20240202T110613
SUMMARY:Abbau Holzversteigerung
DESCRIPTION:
DTSTAMP:20260419T201753
DTSTART;VALUE=DATE:20240204
DTEND;VALUE=DATE:20240205
SEQUENCE:0
TRANSP:OPAQUE
END:VEVENT
END:VCALENDAR