BEGIN:VCALENDAR
VERSION:2.0
PRODID:-//jEvents 2.0 for Joomla//EN
CALSCALE:GREGORIAN
METHOD:PUBLISH
BEGIN:VEVENT
UID:e04b098d27c91822762d884511d9e698
CATEGORIES:Abt. Holzen
CREATED:20240202T110437
SUMMARY:Holzversteigerung
DESCRIPTION:
DTSTAMP:20260419T201806
DTSTART;VALUE=DATE:20240203
DTEND;VALUE=DATE:20240204
SEQUENCE:0
TRANSP:OPAQUE
END:VEVENT
END:VCALENDAR