BEGIN:VCALENDAR
VERSION:2.0
PRODID:-//jEvents 2.0 for Joomla//EN
CALSCALE:GREGORIAN
METHOD:PUBLISH
BEGIN:VEVENT
UID:daf346455ccc7f56144ceff10a42e48c
CATEGORIES:Abt. Holzen
CREATED:20240202T110407
SUMMARY:Aufbau Holzversteigerung
DESCRIPTION:
DTSTAMP:20260419T201622
DTSTART;VALUE=DATE:20240202
DTEND;VALUE=DATE:20240203
SEQUENCE:0
TRANSP:OPAQUE
END:VEVENT
END:VCALENDAR