BEGIN:VCALENDAR
VERSION:2.0
PRODID:-//jEvents 2.0 for Joomla//EN
CALSCALE:GREGORIAN
METHOD:PUBLISH
BEGIN:VEVENT
UID:9ad33c75abc6f02c881ee34cfd0a02ce
CATEGORIES:Abt. Holzen
CREATED:20240202T110339
SUMMARY:Übung Gruppe 1
DESCRIPTION:
DTSTAMP:20260423T113645
DTSTART;VALUE=DATE:20240201
DTEND;VALUE=DATE:20240202
SEQUENCE:0
TRANSP:OPAQUE
END:VEVENT
END:VCALENDAR