BEGIN:VCALENDAR
VERSION:2.0
PRODID:-//jEvents 2.0 for Joomla//EN
CALSCALE:GREGORIAN
METHOD:PUBLISH
BEGIN:VEVENT
UID:f4735840b6b8b4082d056300b4249481
CATEGORIES:Abt. Tannenkirch
CREATED:20240128T174308
SUMMARY:Übung
DESCRIPTION:
DTSTAMP:20260423T122837
DTSTART:20241024T170000
SEQUENCE:0
TRANSP:OPAQUE
END:VEVENT
END:VCALENDAR