BEGIN:VCALENDAR
VERSION:2.0
PRODID:-//jEvents 2.0 for Joomla//EN
CALSCALE:GREGORIAN
METHOD:PUBLISH
BEGIN:VEVENT
UID:22d8e6038928ecdf5cdf35c3e9772e6d
CATEGORIES:Abt. Tannenkirch
CREATED:20240128T174250
SUMMARY:Übung
DESCRIPTION:
DTSTAMP:20260421T135649
DTSTART:20241010T170000
SEQUENCE:0
TRANSP:OPAQUE
END:VEVENT
END:VCALENDAR