BEGIN:VCALENDAR
VERSION:2.0
PRODID:-//jEvents 2.0 for Joomla//EN
CALSCALE:GREGORIAN
METHOD:PUBLISH
BEGIN:VEVENT
UID:53b81f9c039464e5d4d7ed24caf91eb6
CATEGORIES:Abt. Tannenkirch
CREATED:20240128T174232
SUMMARY:Papiersammlung
DESCRIPTION:
DTSTAMP:20260423T114625
DTSTART;VALUE=DATE:20241005
DTEND;VALUE=DATE:20241006
SEQUENCE:0
TRANSP:OPAQUE
END:VEVENT
END:VCALENDAR