BEGIN:VCALENDAR
VERSION:2.0
PRODID:-//jEvents 2.0 for Joomla//EN
CALSCALE:GREGORIAN
METHOD:PUBLISH
BEGIN:VEVENT
UID:d182f83cf556142e68d60bee80758db0
CATEGORIES:Abt. Tannenkirch
CREATED:20240128T174156
SUMMARY:Übung
DESCRIPTION:
DTSTAMP:20260421T123520
DTSTART:20240822T170000
SEQUENCE:0
TRANSP:OPAQUE
END:VEVENT
END:VCALENDAR