BEGIN:VCALENDAR
VERSION:2.0
PRODID:-//jEvents 2.0 for Joomla//EN
CALSCALE:GREGORIAN
METHOD:PUBLISH
BEGIN:VEVENT
UID:a838f61125d78847d3693f1586bc8b29
CATEGORIES:Abt. Tannenkirch
CREATED:20240128T174136
SUMMARY:Papiersammlung
DESCRIPTION:
DTSTAMP:20260421T143526
DTSTART;VALUE=DATE:20240803
DTEND;VALUE=DATE:20240804
SEQUENCE:0
TRANSP:OPAQUE
END:VEVENT
END:VCALENDAR