BEGIN:VCALENDAR
VERSION:2.0
PRODID:-//jEvents 2.0 for Joomla//EN
CALSCALE:GREGORIAN
METHOD:PUBLISH
BEGIN:VEVENT
UID:b410d038f99f21fdcf160f82b577234a
CATEGORIES:Abt. Tannenkirch
CREATED:20240128T174122
SUMMARY:Übung
DESCRIPTION:
DTSTAMP:20260423T081421
DTSTART:20240711T170000
SEQUENCE:0
TRANSP:OPAQUE
END:VEVENT
END:VCALENDAR