BEGIN:VCALENDAR
VERSION:2.0
PRODID:-//jEvents 2.0 for Joomla//EN
CALSCALE:GREGORIAN
METHOD:PUBLISH
BEGIN:VEVENT
UID:92038955a151ca3bcb19a68a71da3645
CATEGORIES:Abt. Tannenkirch
CREATED:20240128T173933
SUMMARY:Übung
DESCRIPTION:
DTSTAMP:20260421T122221
DTSTART:20240411T170000
SEQUENCE:0
TRANSP:OPAQUE
END:VEVENT
END:VCALENDAR