BEGIN:VCALENDAR
VERSION:2.0
PRODID:-//jEvents 2.0 for Joomla//EN
CALSCALE:GREGORIAN
METHOD:PUBLISH
BEGIN:VEVENT
UID:5883c909e80b08796e110f1c7c67cbed
CATEGORIES:Abt. Tannenkirch
CREATED:20240128T173918
SUMMARY:Papiersammlung
DESCRIPTION:
DTSTAMP:20260421T143443
DTSTART;VALUE=DATE:20240406
DTEND;VALUE=DATE:20240407
SEQUENCE:0
TRANSP:OPAQUE
END:VEVENT
END:VCALENDAR