BEGIN:VCALENDAR
VERSION:2.0
PRODID:-//jEvents 2.0 for Joomla//EN
CALSCALE:GREGORIAN
METHOD:PUBLISH
BEGIN:VEVENT
UID:581dfa4370f949c9516e02c8529b80be
CATEGORIES:Abt. Tannenkirch
CREATED:20240128T173900
SUMMARY:Übung
DESCRIPTION:
DTSTAMP:20260419T162540
DTSTART:20240321T180000
SEQUENCE:0
TRANSP:OPAQUE
END:VEVENT
END:VCALENDAR