BEGIN:VCALENDAR
VERSION:2.0
PRODID:-//jEvents 2.0 for Joomla//EN
CALSCALE:GREGORIAN
METHOD:PUBLISH
BEGIN:VEVENT
UID:e60697d375275cfbd5955c2a639777f0
CATEGORIES:Abt. Tannenkirch
CREATED:20240128T173846
SUMMARY:Übung
DESCRIPTION:
DTSTAMP:20260423T105734
DTSTART:20240222T180000
SEQUENCE:0
TRANSP:OPAQUE
END:VEVENT
END:VCALENDAR