BEGIN:VCALENDAR
VERSION:2.0
PRODID:-//jEvents 2.0 for Joomla//EN
CALSCALE:GREGORIAN
METHOD:PUBLISH
BEGIN:VEVENT
UID:e12edb59e4092f26ec784f828a6768b1
CATEGORIES:Abt. Tannenkirch
CREATED:20240128T173833
SUMMARY:Fastnachtsfeuer
DESCRIPTION:
DTSTAMP:20260421T143518
DTSTART;VALUE=DATE:20240217
DTEND;VALUE=DATE:20240218
SEQUENCE:0
TRANSP:OPAQUE
END:VEVENT
END:VCALENDAR