BEGIN:VCALENDAR
VERSION:2.0
PRODID:-//jEvents 2.0 for Joomla//EN
CALSCALE:GREGORIAN
METHOD:PUBLISH
BEGIN:VEVENT
UID:b775bb37cc0b02a02e4e658f43fb6dff
CATEGORIES:Abt. Tannenkirch
CREATED:20240128T173800
SUMMARY:Übung
DESCRIPTION:
DTSTAMP:20260423T105916
DTSTART:20240208T180000
SEQUENCE:0
TRANSP:OPAQUE
END:VEVENT
END:VCALENDAR