BEGIN:VCALENDAR
VERSION:2.0
PRODID:-//jEvents 2.0 for Joomla//EN
CALSCALE:GREGORIAN
METHOD:PUBLISH
BEGIN:VEVENT
UID:0627d5075555b38d5c51b8013cd0143b
CATEGORIES:Abt. Tannenkirch
CREATED:20240128T173747
SUMMARY:Übung Maschinisten
DESCRIPTION:
DTSTAMP:20260421T100916
DTSTART;VALUE=DATE:20240207
DTEND;VALUE=DATE:20240208
SEQUENCE:0
TRANSP:OPAQUE
END:VEVENT
END:VCALENDAR