BEGIN:VCALENDAR
VERSION:2.0
PRODID:-//jEvents 2.0 for Joomla//EN
CALSCALE:GREGORIAN
METHOD:PUBLISH
BEGIN:VEVENT
UID:52a328413a99e673c6cada037e7cf081
CATEGORIES:Abt. Tannenkirch
CREATED:20240128T173706
SUMMARY:Papiersammlung
DESCRIPTION:
DTSTAMP:20260419T201722
DTSTART;VALUE=DATE:20240203
DTEND;VALUE=DATE:20240204
SEQUENCE:0
TRANSP:OPAQUE
END:VEVENT
END:VCALENDAR