BEGIN:VCALENDAR
VERSION:2.0
PRODID:-//jEvents 2.0 for Joomla//EN
CALSCALE:GREGORIAN
METHOD:PUBLISH
BEGIN:VEVENT
UID:2bc9f52bf2814a0dcda44ff531f1ead2
CATEGORIES:Abt. Riedlingen
CREATED:20240128T170304
SUMMARY:Papierannahme
DESCRIPTION:
DTSTAMP:20260421T143816
DTSTART;VALUE=DATE:20241207
DTEND;VALUE=DATE:20241208
SEQUENCE:0
TRANSP:OPAQUE
END:VEVENT
END:VCALENDAR