BEGIN:VCALENDAR
VERSION:2.0
PRODID:-//jEvents 2.0 for Joomla//EN
CALSCALE:GREGORIAN
METHOD:PUBLISH
BEGIN:VEVENT
UID:3db8023744f84c3a599c99c98e1800ae
CATEGORIES:Abt. Riedlingen
CREATED:20240128T170205
SUMMARY:Papierannahme
DESCRIPTION:
DTSTAMP:20260421T160024
DTSTART;VALUE=DATE:20241102
DTEND;VALUE=DATE:20241103
SEQUENCE:0
TRANSP:OPAQUE
END:VEVENT
END:VCALENDAR