BEGIN:VCALENDAR
VERSION:2.0
PRODID:-//jEvents 2.0 for Joomla//EN
CALSCALE:GREGORIAN
METHOD:PUBLISH
BEGIN:VEVENT
UID:d9d399958dffc963e22f473632817397
CATEGORIES:Abt. Riedlingen
CREATED:20240128T170135
SUMMARY:Übung
DESCRIPTION:
DTSTAMP:20260421T135115
DTSTART:20241010T173000
SEQUENCE:0
TRANSP:OPAQUE
END:VEVENT
END:VCALENDAR