BEGIN:VCALENDAR
VERSION:2.0
PRODID:-//jEvents 2.0 for Joomla//EN
CALSCALE:GREGORIAN
METHOD:PUBLISH
BEGIN:VEVENT
UID:72ecba96e73de410c438d058d66e83ae
CATEGORIES:Abt. Riedlingen
CREATED:20240128T170042
SUMMARY:Papierannahme
DESCRIPTION:
DTSTAMP:20260421T143850
DTSTART;VALUE=DATE:20240907
DTEND;VALUE=DATE:20240908
SEQUENCE:0
TRANSP:OPAQUE
END:VEVENT
END:VCALENDAR