BEGIN:VCALENDAR
VERSION:2.0
PRODID:-//jEvents 2.0 for Joomla//EN
CALSCALE:GREGORIAN
METHOD:PUBLISH
BEGIN:VEVENT
UID:be14f603cc3ee416f40fb5e158e61d85
CATEGORIES:Abt. Riedlingen
CREATED:20240128T170027
SUMMARY:Übung
DESCRIPTION:
DTSTAMP:20260421T123555
DTSTART:20240905T173000
SEQUENCE:0
TRANSP:OPAQUE
END:VEVENT
END:VCALENDAR