BEGIN:VCALENDAR
VERSION:2.0
PRODID:-//jEvents 2.0 for Joomla//EN
CALSCALE:GREGORIAN
METHOD:PUBLISH
BEGIN:VEVENT
UID:3e30784b841ee74fbe60ebc446cec926
CATEGORIES:Abt. Riedlingen
CREATED:20240128T165924
SUMMARY:Kameradschaftsabend
DESCRIPTION:
DTSTAMP:20260421T172112
DTSTART;VALUE=DATE:20240718
DTEND;VALUE=DATE:20240719
SEQUENCE:0
TRANSP:OPAQUE
END:VEVENT
END:VCALENDAR