BEGIN:VCALENDAR
VERSION:2.0
PRODID:-//jEvents 2.0 for Joomla//EN
CALSCALE:GREGORIAN
METHOD:PUBLISH
BEGIN:VEVENT
UID:e6fdbdd14d61bf17164dc575f8d32ecf
CATEGORIES:JF Wollbach
CREATED:20240128T165338
SUMMARY:Papierannahme
DESCRIPTION:
DTSTAMP:20260421T141933
DTSTART;VALUE=DATE:20240406
DTEND;VALUE=DATE:20240407
SEQUENCE:0
TRANSP:OPAQUE
END:VEVENT
END:VCALENDAR