BEGIN:VCALENDAR
VERSION:2.0
PRODID:-//jEvents 2.0 for Joomla//EN
CALSCALE:GREGORIAN
METHOD:PUBLISH
BEGIN:VEVENT
UID:baa783c9fef4f33654bbca8e31783a59
CATEGORIES:Abt. Riedlingen
CREATED:20240128T165312
SUMMARY:Übung Atemschutz
DESCRIPTION:
DTSTAMP:20260419T200114
DTSTART;VALUE=DATE:20240321
DTEND;VALUE=DATE:20240322
SEQUENCE:0
TRANSP:OPAQUE
END:VEVENT
END:VCALENDAR